BEGIN:VCALENDAR
VERSION:2.0
PRODID:-//muenichsthal.at - ECPv6.15.17.1//NONSGML v1.0//EN
CALSCALE:GREGORIAN
METHOD:PUBLISH
X-ORIGINAL-URL:https://www.muenichsthal.at
X-WR-CALDESC:Veranstaltungen für muenichsthal.at
REFRESH-INTERVAL;VALUE=DURATION:PT1H
X-Robots-Tag:noindex
X-PUBLISHED-TTL:PT1H
BEGIN:VTIMEZONE
TZID:Europe/Vienna
BEGIN:DAYLIGHT
TZOFFSETFROM:+0100
TZOFFSETTO:+0200
TZNAME:CEST
DTSTART:20210328T010000
END:DAYLIGHT
BEGIN:STANDARD
TZOFFSETFROM:+0200
TZOFFSETTO:+0100
TZNAME:CET
DTSTART:20211031T010000
END:STANDARD
BEGIN:DAYLIGHT
TZOFFSETFROM:+0100
TZOFFSETTO:+0200
TZNAME:CEST
DTSTART:20220327T010000
END:DAYLIGHT
BEGIN:STANDARD
TZOFFSETFROM:+0200
TZOFFSETTO:+0100
TZNAME:CET
DTSTART:20221030T010000
END:STANDARD
BEGIN:DAYLIGHT
TZOFFSETFROM:+0100
TZOFFSETTO:+0200
TZNAME:CEST
DTSTART:20230326T010000
END:DAYLIGHT
BEGIN:STANDARD
TZOFFSETFROM:+0200
TZOFFSETTO:+0100
TZNAME:CET
DTSTART:20231029T010000
END:STANDARD
END:VTIMEZONE
BEGIN:VEVENT
DTSTART;TZID=Europe/Vienna:20220515T090000
DTEND;TZID=Europe/Vienna:20220515T170000
DTSTAMP:20260425T201330
CREATED:20220422T121613Z
LAST-MODIFIED:20220422T123241Z
UID:5191-1652605200-1652634000@www.muenichsthal.at
SUMMARY:UTC Wolkersdorf 4 vs. TC Münichsthal (auswärts) – Herren Kreisliga E KLE F
DESCRIPTION:UTC Wolkersdorf 4 vs. TC Münichsthal (auswärts) – Herren Kreisliga E KLE F
URL:https://www.muenichsthal.at/event/tcm-meisterschaft-2/
CATEGORIES:Alle,TCM Meisterschaft
ATTACH;FMTTYPE=image/jpeg:https://www.muenichsthal.at/wp-content/uploads/2022/04/2022_dummie_tcm_meisterschaft.jpeg
END:VEVENT
BEGIN:VEVENT
DTSTART;TZID=Europe/Vienna:20220515T160000
DTEND;TZID=Europe/Vienna:20220515T160000
DTSTAMP:20260425T201330
CREATED:20220425T123800Z
LAST-MODIFIED:20220425T123800Z
UID:5200-1652630400-1652630400@www.muenichsthal.at
SUMMARY:Frühlingskonzert im Garten hinter der „Alten Schule“
DESCRIPTION:Am Sonntag\, den 15. Mai 2022 findet um 16:00 Uhr unser Frühlingskonzert im Garten hinter der „Alten Schule“ in Münichsthal statt!\nIm ersten Teil werden verschiedene Konzertstücke mit Unterstützung des Chors „MüniXang“ und Solisten zum Besten gegeben.\nDer zweite Teil wird ein gemütlicher Ausklang mit Dämmerschoppen-Musik und Bewirtung. Wir freuen uns auf Ihren/deinen Besuch!
URL:https://www.muenichsthal.at/event/fruehlingskonzert-im-garten-hinter-der-alten-schule/
LOCATION:Ortszentrum\, Hauptstraße 56\, Münichsthal\, 2122\, Österreich
CATEGORIES:Alle,Musikverein Münichsthal
ATTACH;FMTTYPE=image/jpeg:https://www.muenichsthal.at/wp-content/uploads/2022/04/2022_mvm_fruehlingskonzert.jpg
END:VEVENT
END:VCALENDAR