BEGIN:VCALENDAR
VERSION:2.0
PRODID:-//muenichsthal.at - ECPv6.15.17.1//NONSGML v1.0//EN
CALSCALE:GREGORIAN
METHOD:PUBLISH
X-ORIGINAL-URL:https://www.muenichsthal.at
X-WR-CALDESC:Veranstaltungen für muenichsthal.at
REFRESH-INTERVAL;VALUE=DURATION:PT1H
X-Robots-Tag:noindex
X-PUBLISHED-TTL:PT1H
BEGIN:VTIMEZONE
TZID:Europe/Vienna
BEGIN:DAYLIGHT
TZOFFSETFROM:+0100
TZOFFSETTO:+0200
TZNAME:CEST
DTSTART:20210328T010000
END:DAYLIGHT
BEGIN:STANDARD
TZOFFSETFROM:+0200
TZOFFSETTO:+0100
TZNAME:CET
DTSTART:20211031T010000
END:STANDARD
BEGIN:DAYLIGHT
TZOFFSETFROM:+0100
TZOFFSETTO:+0200
TZNAME:CEST
DTSTART:20220327T010000
END:DAYLIGHT
BEGIN:STANDARD
TZOFFSETFROM:+0200
TZOFFSETTO:+0100
TZNAME:CET
DTSTART:20221030T010000
END:STANDARD
BEGIN:DAYLIGHT
TZOFFSETFROM:+0100
TZOFFSETTO:+0200
TZNAME:CEST
DTSTART:20230326T010000
END:DAYLIGHT
BEGIN:STANDARD
TZOFFSETFROM:+0200
TZOFFSETTO:+0100
TZNAME:CET
DTSTART:20231029T010000
END:STANDARD
END:VTIMEZONE
BEGIN:VEVENT
DTSTART;TZID=Europe/Vienna:20220521T080000
DTEND;TZID=Europe/Vienna:20220521T130000
DTSTAMP:20260425T201355
CREATED:20220501T061948Z
LAST-MODIFIED:20220501T061949Z
UID:5218-1653120000-1653138000@www.muenichsthal.at
SUMMARY:Flohmarkt
DESCRIPTION:Nach zwei Jahren Pause konnte nun wieder ein Flohmarkttermin fixiert werden: Samstag\, 21.05.2022\, am Vorplatz zum Ortszentrum.\nKommt und schaut euch an\, was die Verkäufer aus der Umgebung für Raritäten auf ihren Tischen haben. Entdeckt von 8 bis 13 Uhr kuriose\, ausgefallene und einzigartige Dinge. Hier ist für jeden was dabei. \nZeit für den Frühjahrsputz! – Möchtest du selbst deine Schätze anbieten? Nimm einfach mit uns Kontakt auf. \nDer Markt findet unter freien Himmel statt\, von ein paar Tröpfchen lassen wir uns nicht die Laune verderben. Im Zweifelsfall schau einfach auf www.gebrauchtwarenverein.at vorbei\, dort stehen immer alle aktuellen Infos.
URL:https://www.muenichsthal.at/event/flohmarkt-3/
CATEGORIES:Alle
ATTACH;FMTTYPE=image/jpeg:https://www.muenichsthal.at/wp-content/uploads/2022/05/2022_flohmarkt_muenichsthal.jpg
END:VEVENT
END:VCALENDAR