BEGIN:VCALENDAR
VERSION:2.0
PRODID:-//muenichsthal.at - ECPv6.15.17.1//NONSGML v1.0//EN
CALSCALE:GREGORIAN
METHOD:PUBLISH
X-ORIGINAL-URL:https://www.muenichsthal.at
X-WR-CALDESC:Veranstaltungen für muenichsthal.at
REFRESH-INTERVAL;VALUE=DURATION:PT1H
X-Robots-Tag:noindex
X-PUBLISHED-TTL:PT1H
BEGIN:VTIMEZONE
TZID:Europe/Vienna
BEGIN:DAYLIGHT
TZOFFSETFROM:+0100
TZOFFSETTO:+0200
TZNAME:CEST
DTSTART:20210328T010000
END:DAYLIGHT
BEGIN:STANDARD
TZOFFSETFROM:+0200
TZOFFSETTO:+0100
TZNAME:CET
DTSTART:20211031T010000
END:STANDARD
BEGIN:DAYLIGHT
TZOFFSETFROM:+0100
TZOFFSETTO:+0200
TZNAME:CEST
DTSTART:20220327T010000
END:DAYLIGHT
BEGIN:STANDARD
TZOFFSETFROM:+0200
TZOFFSETTO:+0100
TZNAME:CET
DTSTART:20221030T010000
END:STANDARD
BEGIN:DAYLIGHT
TZOFFSETFROM:+0100
TZOFFSETTO:+0200
TZNAME:CEST
DTSTART:20230326T010000
END:DAYLIGHT
BEGIN:STANDARD
TZOFFSETFROM:+0200
TZOFFSETTO:+0100
TZNAME:CET
DTSTART:20231029T010000
END:STANDARD
END:VTIMEZONE
BEGIN:VEVENT
DTSTART;TZID=Europe/Vienna:20220903T100000
DTEND;TZID=Europe/Vienna:20220903T140000
DTSTAMP:20260425T132806
CREATED:20220713T114454Z
LAST-MODIFIED:20220713T114454Z
UID:5343-1662199200-1662213600@www.muenichsthal.at
SUMMARY:10. Münichsthaler Rieden-Trophy
DESCRIPTION:
URL:https://www.muenichsthal.at/event/10-muenichsthaler-rieden-trophy/
LOCATION:Feuerwehrhaus\, Hauptstraße 45a\, Münichsthal\, 2122
CATEGORIES:Alle
ATTACH;FMTTYPE=image/jpeg:https://www.muenichsthal.at/wp-content/uploads/2022/07/2022_flyer_kirtag.jpg
END:VEVENT
BEGIN:VEVENT
DTSTART;TZID=Europe/Vienna:20220903T183000
DTEND;TZID=Europe/Vienna:20220903T183000
DTSTAMP:20260425T132806
CREATED:20220713T114554Z
LAST-MODIFIED:20220713T114554Z
UID:5346-1662229800-1662229800@www.muenichsthal.at
SUMMARY:Weinbeissn am Brasnbere
DESCRIPTION:
URL:https://www.muenichsthal.at/event/weinbeissn-am-brasnbere-3/
LOCATION:Feuerwehrhaus\, Hauptstraße 45a\, Münichsthal\, 2122
CATEGORIES:Alle
END:VEVENT
END:VCALENDAR