BEGIN:VCALENDAR
VERSION:2.0
PRODID:-//muenichsthal.at - ECPv6.15.17.1//NONSGML v1.0//EN
CALSCALE:GREGORIAN
METHOD:PUBLISH
X-WR-CALNAME:muenichsthal.at
X-ORIGINAL-URL:https://www.muenichsthal.at
X-WR-CALDESC:Veranstaltungen für muenichsthal.at
REFRESH-INTERVAL;VALUE=DURATION:PT1H
X-Robots-Tag:noindex
X-PUBLISHED-TTL:PT1H
BEGIN:VTIMEZONE
TZID:Europe/Vienna
BEGIN:DAYLIGHT
TZOFFSETFROM:+0100
TZOFFSETTO:+0200
TZNAME:CEST
DTSTART:20210328T010000
END:DAYLIGHT
BEGIN:STANDARD
TZOFFSETFROM:+0200
TZOFFSETTO:+0100
TZNAME:CET
DTSTART:20211031T010000
END:STANDARD
BEGIN:DAYLIGHT
TZOFFSETFROM:+0100
TZOFFSETTO:+0200
TZNAME:CEST
DTSTART:20220327T010000
END:DAYLIGHT
BEGIN:STANDARD
TZOFFSETFROM:+0200
TZOFFSETTO:+0100
TZNAME:CET
DTSTART:20221030T010000
END:STANDARD
BEGIN:DAYLIGHT
TZOFFSETFROM:+0100
TZOFFSETTO:+0200
TZNAME:CEST
DTSTART:20230326T010000
END:DAYLIGHT
BEGIN:STANDARD
TZOFFSETFROM:+0200
TZOFFSETTO:+0100
TZNAME:CET
DTSTART:20231029T010000
END:STANDARD
END:VTIMEZONE
BEGIN:VEVENT
DTSTART;TZID=Europe/Vienna:20220904T084500
DTEND;TZID=Europe/Vienna:20220904T150000
DTSTAMP:20260425T133701
CREATED:20220713T114652Z
LAST-MODIFIED:20220713T114653Z
UID:5348-1662281100-1662303600@www.muenichsthal.at
SUMMARY:Feuerwehrfrühschoppen
DESCRIPTION:
URL:https://www.muenichsthal.at/event/feuerwehrfruehschoppen/
LOCATION:Feuerwehrhaus\, Hauptstraße 45a\, Münichsthal\, 2122
CATEGORIES:Alle
END:VEVENT
END:VCALENDAR