BEGIN:VCALENDAR
VERSION:2.0
PRODID:-//muenichsthal.at - ECPv6.15.17.1//NONSGML v1.0//EN
CALSCALE:GREGORIAN
METHOD:PUBLISH
X-WR-CALNAME:muenichsthal.at
X-ORIGINAL-URL:https://www.muenichsthal.at
X-WR-CALDESC:Veranstaltungen für muenichsthal.at
REFRESH-INTERVAL;VALUE=DURATION:PT1H
X-Robots-Tag:noindex
X-PUBLISHED-TTL:PT1H
BEGIN:VTIMEZONE
TZID:Europe/Vienna
BEGIN:DAYLIGHT
TZOFFSETFROM:+0100
TZOFFSETTO:+0200
TZNAME:CEST
DTSTART:20210328T010000
END:DAYLIGHT
BEGIN:STANDARD
TZOFFSETFROM:+0200
TZOFFSETTO:+0100
TZNAME:CET
DTSTART:20211031T010000
END:STANDARD
BEGIN:DAYLIGHT
TZOFFSETFROM:+0100
TZOFFSETTO:+0200
TZNAME:CEST
DTSTART:20220327T010000
END:DAYLIGHT
BEGIN:STANDARD
TZOFFSETFROM:+0200
TZOFFSETTO:+0100
TZNAME:CET
DTSTART:20221030T010000
END:STANDARD
BEGIN:DAYLIGHT
TZOFFSETFROM:+0100
TZOFFSETTO:+0200
TZNAME:CEST
DTSTART:20230326T010000
END:DAYLIGHT
BEGIN:STANDARD
TZOFFSETFROM:+0200
TZOFFSETTO:+0100
TZNAME:CET
DTSTART:20231029T010000
END:STANDARD
END:VTIMEZONE
BEGIN:VEVENT
DTSTART;TZID=Europe/Vienna:20220309T180000
DTEND;TZID=Europe/Vienna:20220309T213000
DTSTAMP:20260425T220915
CREATED:20220306T135921Z
LAST-MODIFIED:20220306T140104Z
UID:5117-1646848800-1646861400@www.muenichsthal.at
SUMMARY:Erste Hilfe - Infoabend
DESCRIPTION:
URL:https://www.muenichsthal.at/event/erste-hilfe-infoabend/
LOCATION:Ortszentrum\, Hauptstraße 56\, Münichsthal\, 2122\, Österreich
CATEGORIES:Alle
ATTACH;FMTTYPE=image/jpeg:https://www.muenichsthal.at/wp-content/uploads/2022/03/275045038_5102412136468636_1745067974116019402_n.jpg
END:VEVENT
BEGIN:VEVENT
DTSTART;TZID=Europe/Vienna:20220320T093000
DTEND;TZID=Europe/Vienna:20220320T093000
DTSTAMP:20260425T220915
CREATED:20220306T135428Z
LAST-MODIFIED:20220306T140543Z
UID:5110-1647768600-1647768600@www.muenichsthal.at
SUMMARY:5. Suppensonntag
DESCRIPTION:
URL:https://www.muenichsthal.at/event/5-suppensonntag/
LOCATION:Feuerwehrhaus\, Hauptstraße 45a\, Münichsthal\, 2122
CATEGORIES:Alle
ATTACH;FMTTYPE=image/jpeg:https://www.muenichsthal.at/wp-content/uploads/2022/03/WhatsApp-Image-2022-03-06-at-15.04.53.jpeg
END:VEVENT
BEGIN:VEVENT
DTSTART;TZID=Europe/Vienna:20220322T180000
DTEND;TZID=Europe/Vienna:20220322T180000
DTSTAMP:20260425T220915
CREATED:20220306T135208Z
LAST-MODIFIED:20220306T135208Z
UID:5105-1647972000-1647972000@www.muenichsthal.at
SUMMARY:Dorferneuerung - Erstellung Leitbild
DESCRIPTION:
URL:https://www.muenichsthal.at/event/dorferneuerung-erstellung-leitbild/
LOCATION:Ortszentrum\, Hauptstraße 56\, Münichsthal\, 2122\, Österreich
CATEGORIES:Alle
END:VEVENT
BEGIN:VEVENT
DTSTART;TZID=Europe/Vienna:20220326T090000
DTEND;TZID=Europe/Vienna:20220326T110000
DTSTAMP:20260425T220915
CREATED:20220306T135310Z
LAST-MODIFIED:20220324T071540Z
UID:5108-1648285200-1648292400@www.muenichsthal.at
SUMMARY:Frühjahrsputz
DESCRIPTION:
URL:https://www.muenichsthal.at/event/fruehjahrsputz/
LOCATION:vor dem Ortszentrum
CATEGORIES:Alle
ATTACH;FMTTYPE=image/jpeg:https://www.muenichsthal.at/wp-content/uploads/2022/03/2022_03_24_fruehjahrsputz.jpeg
END:VEVENT
END:VCALENDAR