BEGIN:VCALENDAR
VERSION:2.0
PRODID:-//muenichsthal.at - ECPv6.15.17.1//NONSGML v1.0//EN
CALSCALE:GREGORIAN
METHOD:PUBLISH
X-WR-CALNAME:muenichsthal.at
X-ORIGINAL-URL:https://www.muenichsthal.at
X-WR-CALDESC:Veranstaltungen für muenichsthal.at
REFRESH-INTERVAL;VALUE=DURATION:PT1H
X-Robots-Tag:noindex
X-PUBLISHED-TTL:PT1H
BEGIN:VTIMEZONE
TZID:Europe/Vienna
BEGIN:DAYLIGHT
TZOFFSETFROM:+0100
TZOFFSETTO:+0200
TZNAME:CEST
DTSTART:20210328T010000
END:DAYLIGHT
BEGIN:STANDARD
TZOFFSETFROM:+0200
TZOFFSETTO:+0100
TZNAME:CET
DTSTART:20211031T010000
END:STANDARD
BEGIN:DAYLIGHT
TZOFFSETFROM:+0100
TZOFFSETTO:+0200
TZNAME:CEST
DTSTART:20220327T010000
END:DAYLIGHT
BEGIN:STANDARD
TZOFFSETFROM:+0200
TZOFFSETTO:+0100
TZNAME:CET
DTSTART:20221030T010000
END:STANDARD
BEGIN:DAYLIGHT
TZOFFSETFROM:+0100
TZOFFSETTO:+0200
TZNAME:CEST
DTSTART:20230326T010000
END:DAYLIGHT
BEGIN:STANDARD
TZOFFSETFROM:+0200
TZOFFSETTO:+0100
TZNAME:CET
DTSTART:20231029T010000
END:STANDARD
END:VTIMEZONE
BEGIN:VEVENT
DTSTART;TZID=Europe/Vienna:20220406T180000
DTEND;TZID=Europe/Vienna:20220406T180000
DTSTAMP:20260425T202032
CREATED:20220306T135524Z
LAST-MODIFIED:20220306T135525Z
UID:5113-1649268000-1649268000@www.muenichsthal.at
SUMMARY:Dorferneuerung - Erstellung Leitbild
DESCRIPTION:
URL:https://www.muenichsthal.at/event/dorferneuerung-erstellung-leitbild-2/
LOCATION:Ortszentrum\, Hauptstraße 56\, Münichsthal\, 2122\, Österreich
CATEGORIES:Alle
END:VEVENT
BEGIN:VEVENT
DTSTART;TZID=Europe/Vienna:20220424T150000
DTEND;TZID=Europe/Vienna:20220424T150000
DTSTAMP:20260425T202032
CREATED:20220403T090635Z
LAST-MODIFIED:20220403T090635Z
UID:5167-1650812400-1650812400@www.muenichsthal.at
SUMMARY:Weinfrühling 2022
DESCRIPTION:
URL:https://www.muenichsthal.at/event/weinfruehling-2022/
LOCATION:Feuerwehrhaus\, Hauptstraße 45a\, Münichsthal\, 2122
CATEGORIES:Veranstaltung
ATTACH;FMTTYPE=image/jpeg:https://www.muenichsthal.at/wp-content/uploads/2022/04/2022_04_weinfruehling.jpg
END:VEVENT
END:VCALENDAR