BEGIN:VCALENDAR
VERSION:2.0
PRODID:-//muenichsthal.at - ECPv6.15.17.1//NONSGML v1.0//EN
CALSCALE:GREGORIAN
METHOD:PUBLISH
X-WR-CALNAME:muenichsthal.at
X-ORIGINAL-URL:https://www.muenichsthal.at
X-WR-CALDESC:Veranstaltungen für muenichsthal.at
REFRESH-INTERVAL;VALUE=DURATION:PT1H
X-Robots-Tag:noindex
X-PUBLISHED-TTL:PT1H
BEGIN:VTIMEZONE
TZID:Europe/Vienna
BEGIN:DAYLIGHT
TZOFFSETFROM:+0100
TZOFFSETTO:+0200
TZNAME:CEST
DTSTART:20210328T010000
END:DAYLIGHT
BEGIN:STANDARD
TZOFFSETFROM:+0200
TZOFFSETTO:+0100
TZNAME:CET
DTSTART:20211031T010000
END:STANDARD
BEGIN:DAYLIGHT
TZOFFSETFROM:+0100
TZOFFSETTO:+0200
TZNAME:CEST
DTSTART:20220327T010000
END:DAYLIGHT
BEGIN:STANDARD
TZOFFSETFROM:+0200
TZOFFSETTO:+0100
TZNAME:CET
DTSTART:20221030T010000
END:STANDARD
BEGIN:DAYLIGHT
TZOFFSETFROM:+0100
TZOFFSETTO:+0200
TZNAME:CEST
DTSTART:20230326T010000
END:DAYLIGHT
BEGIN:STANDARD
TZOFFSETFROM:+0200
TZOFFSETTO:+0100
TZNAME:CET
DTSTART:20231029T010000
END:STANDARD
END:VTIMEZONE
BEGIN:VEVENT
DTSTART;TZID=Europe/Vienna:20220828T000000
DTEND;TZID=Europe/Vienna:20220828T000000
DTSTAMP:20260425T132157
CREATED:20220425T124734Z
LAST-MODIFIED:20220425T124932Z
UID:5206-1661644800-1661644800@www.muenichsthal.at
SUMMARY:MVM - Frühschoppen beim Musikheurigen in Pillichsdorf
DESCRIPTION:
URL:https://www.muenichsthal.at/event/mvm-fruehschoppen-beim-musikheurigen-in-pillichsdorf/
CATEGORIES:Alle,Musikverein Münichsthal
END:VEVENT
END:VCALENDAR