BEGIN:VCALENDAR
VERSION:2.0
PRODID:-//muenichsthal.at - ECPv6.15.17.1//NONSGML v1.0//EN
CALSCALE:GREGORIAN
METHOD:PUBLISH
X-ORIGINAL-URL:https://www.muenichsthal.at
X-WR-CALDESC:Veranstaltungen für muenichsthal.at
REFRESH-INTERVAL;VALUE=DURATION:PT1H
X-Robots-Tag:noindex
X-PUBLISHED-TTL:PT1H
BEGIN:VTIMEZONE
TZID:Europe/Vienna
BEGIN:DAYLIGHT
TZOFFSETFROM:+0100
TZOFFSETTO:+0200
TZNAME:CEST
DTSTART:20210328T010000
END:DAYLIGHT
BEGIN:STANDARD
TZOFFSETFROM:+0200
TZOFFSETTO:+0100
TZNAME:CET
DTSTART:20211031T010000
END:STANDARD
BEGIN:DAYLIGHT
TZOFFSETFROM:+0100
TZOFFSETTO:+0200
TZNAME:CEST
DTSTART:20220327T010000
END:DAYLIGHT
BEGIN:STANDARD
TZOFFSETFROM:+0200
TZOFFSETTO:+0100
TZNAME:CET
DTSTART:20221030T010000
END:STANDARD
BEGIN:DAYLIGHT
TZOFFSETFROM:+0100
TZOFFSETTO:+0200
TZNAME:CEST
DTSTART:20230326T010000
END:DAYLIGHT
BEGIN:STANDARD
TZOFFSETFROM:+0200
TZOFFSETTO:+0100
TZNAME:CET
DTSTART:20231029T010000
END:STANDARD
END:VTIMEZONE
BEGIN:VEVENT
DTSTART;TZID=Europe/Vienna:20221203T170000
DTEND;TZID=Europe/Vienna:20221203T170000
DTSTAMP:20260425T062943
CREATED:20221112T090933Z
LAST-MODIFIED:20221112T090933Z
UID:5756-1670086800-1670086800@www.muenichsthal.at
SUMMARY:Glühweinstand TC Münichsthal
DESCRIPTION:
URL:https://www.muenichsthal.at/event/gluehweinstand-tc-muenichsthal/
LOCATION:vor dem Ortszentrum
CATEGORIES:Alle
ATTACH;FMTTYPE=image/jpeg:https://www.muenichsthal.at/wp-content/uploads/2022/11/2022_tcm_gluehweinstand.jpeg
END:VEVENT
BEGIN:VEVENT
DTSTART;TZID=Europe/Vienna:20221204T170000
DTEND;TZID=Europe/Vienna:20221204T190000
DTSTAMP:20260425T062943
CREATED:20221005T135327Z
LAST-MODIFIED:20221005T135327Z
UID:5707-1670173200-1670180400@www.muenichsthal.at
SUMMARY:Nikolaus und Christbaumerleuchten
DESCRIPTION:
URL:https://www.muenichsthal.at/event/nikolaus-und-christbaumerleuchten/
LOCATION:vor dem Ortszentrum
CATEGORIES:Alle
END:VEVENT
BEGIN:VEVENT
DTSTART;VALUE=DATE:20221211
DTEND;VALUE=DATE:20221212
DTSTAMP:20260425T062943
CREATED:20220425T124907Z
LAST-MODIFIED:20221118T141421Z
UID:5210-1670716800-1670803199@www.muenichsthal.at
SUMMARY:Adventkonzert in der Pfarrkirche Münichsthal
DESCRIPTION:Nach drei Jahren Pause kann am Sonntag\, den 11. Dezember 2022 um 16:00 Uhr endlich wieder unser Adventkonzert in der Pfarrkirche Münichsthal stattfinden! \nVerschiedene Ensembles des Musikvereins (Blechbläser\, Klarinetten\, Saxofone\, Querflöten\, gemischte Ensembles) werden klassische und weihnachtliche Stücke spielen\, es werden besinnliche\, aber auch heitere Texte vorgelesen – und der Chor „MüniXang“ ist auch wieder mit dabei. \nEs soll ein stimmungsvoller\, besinnlicher Advent-Nachmittag werden. Wir hoffen\, dass für alle unsere Gäste etwas dabei ist – zum Nachdenken\, Schmunzeln\, Genießen\, etc. \nAnschließend an das Konzert lädt der Musikverein Münichsthal zum Punschstand vor dem Ortszentrum ein! \nWir freuen uns auf Ihren/deinen Besuch!
URL:https://www.muenichsthal.at/event/adventkonzert-in-der-pfarrkirche-muenichsthal/
CATEGORIES:Alle,Musikverein Münichsthal
ATTACH;FMTTYPE=image/jpeg:https://www.muenichsthal.at/wp-content/uploads/2022/11/2022_adventkonzert_mvm.jpg
END:VEVENT
BEGIN:VEVENT
DTSTART;VALUE=DATE:20221217
DTEND;VALUE=DATE:20221218
DTSTAMP:20260425T062943
CREATED:20221112T091101Z
LAST-MODIFIED:20221118T141650Z
UID:5759-1671235200-1671321599@www.muenichsthal.at
SUMMARY:Glühweinstand FF Münichsthal
DESCRIPTION:
URL:https://www.muenichsthal.at/event/gluehweinstand-ff-muenichsthal/
LOCATION:vor dem Ortszentrum
CATEGORIES:Alle
ATTACH;FMTTYPE=image/jpeg:https://www.muenichsthal.at/wp-content/uploads/2022/11/2022_punsch_ffm.jpg
END:VEVENT
BEGIN:VEVENT
DTSTART;VALUE=DATE:20221218
DTEND;VALUE=DATE:20221219
DTSTAMP:20260425T062943
CREATED:20221112T091140Z
LAST-MODIFIED:20221112T091140Z
UID:5761-1671321600-1671407999@www.muenichsthal.at
SUMMARY:Glühweinstand FF Münichsthal
DESCRIPTION:
URL:https://www.muenichsthal.at/event/gluehweinstand-ff-muenichsthal-2/
LOCATION:vor dem Ortszentrum
CATEGORIES:Alle
END:VEVENT
END:VCALENDAR