BEGIN:VCALENDAR
VERSION:2.0
PRODID:-//muenichsthal.at - ECPv6.15.17.1//NONSGML v1.0//EN
CALSCALE:GREGORIAN
METHOD:PUBLISH
X-WR-CALNAME:muenichsthal.at
X-ORIGINAL-URL:https://www.muenichsthal.at
X-WR-CALDESC:Veranstaltungen für muenichsthal.at
REFRESH-INTERVAL;VALUE=DURATION:PT1H
X-Robots-Tag:noindex
X-PUBLISHED-TTL:PT1H
BEGIN:VTIMEZONE
TZID:Europe/Vienna
BEGIN:DAYLIGHT
TZOFFSETFROM:+0100
TZOFFSETTO:+0200
TZNAME:CEST
DTSTART:20220327T010000
END:DAYLIGHT
BEGIN:STANDARD
TZOFFSETFROM:+0200
TZOFFSETTO:+0100
TZNAME:CET
DTSTART:20221030T010000
END:STANDARD
BEGIN:DAYLIGHT
TZOFFSETFROM:+0100
TZOFFSETTO:+0200
TZNAME:CEST
DTSTART:20230326T010000
END:DAYLIGHT
BEGIN:STANDARD
TZOFFSETFROM:+0200
TZOFFSETTO:+0100
TZNAME:CET
DTSTART:20231029T010000
END:STANDARD
BEGIN:DAYLIGHT
TZOFFSETFROM:+0100
TZOFFSETTO:+0200
TZNAME:CEST
DTSTART:20240331T010000
END:DAYLIGHT
BEGIN:STANDARD
TZOFFSETFROM:+0200
TZOFFSETTO:+0100
TZNAME:CET
DTSTART:20241027T010000
END:STANDARD
END:VTIMEZONE
BEGIN:VEVENT
DTSTART;TZID=Europe/Vienna:20230305T093000
DTEND;TZID=Europe/Vienna:20230305T093000
DTSTAMP:20260425T013556
CREATED:20230119T142915Z
LAST-MODIFIED:20230226T073251Z
UID:5783-1678008600-1678008600@www.muenichsthal.at
SUMMARY:6. Suppensonntag
DESCRIPTION:
URL:https://www.muenichsthal.at/event/suppensonntag-3/
LOCATION:Ortszentrum\, Hauptstraße 56\, Münichsthal\, 2122\, Österreich
CATEGORIES:Alle
ATTACH;FMTTYPE=image/jpeg:https://www.muenichsthal.at/wp-content/uploads/2023/01/2023_suppensonntag.jpeg
END:VEVENT
BEGIN:VEVENT
DTSTART;TZID=Europe/Vienna:20230318T090000
DTEND;TZID=Europe/Vienna:20230318T090000
DTSTAMP:20260425T013556
CREATED:20230119T143055Z
LAST-MODIFIED:20230119T143607Z
UID:5785-1679130000-1679130000@www.muenichsthal.at
SUMMARY:Frühjahrsputz
DESCRIPTION:
URL:https://www.muenichsthal.at/event/fruehjahrsputz-2/
LOCATION:Ortszentrum\, Hauptstraße 56\, Münichsthal\, 2122\, Österreich
CATEGORIES:Alle
END:VEVENT
BEGIN:VEVENT
DTSTART;TZID=Europe/Vienna:20230325T170000
DTEND;TZID=Europe/Vienna:20230325T190000
DTSTAMP:20260425T013556
CREATED:20230119T143205Z
LAST-MODIFIED:20230119T143553Z
UID:5787-1679763600-1679770800@www.muenichsthal.at
SUMMARY:Hegeschau
DESCRIPTION:
URL:https://www.muenichsthal.at/event/hegeschau/
LOCATION:Ortszentrum\, Hauptstraße 56\, Münichsthal\, 2122\, Österreich
CATEGORIES:Alle
END:VEVENT
END:VCALENDAR