BEGIN:VCALENDAR
VERSION:2.0
PRODID:-//muenichsthal.at - ECPv6.15.17.1//NONSGML v1.0//EN
CALSCALE:GREGORIAN
METHOD:PUBLISH
X-ORIGINAL-URL:https://www.muenichsthal.at
X-WR-CALDESC:Veranstaltungen für muenichsthal.at
REFRESH-INTERVAL;VALUE=DURATION:PT1H
X-Robots-Tag:noindex
X-PUBLISHED-TTL:PT1H
BEGIN:VTIMEZONE
TZID:Europe/Vienna
BEGIN:DAYLIGHT
TZOFFSETFROM:+0100
TZOFFSETTO:+0200
TZNAME:CEST
DTSTART:20220327T010000
END:DAYLIGHT
BEGIN:STANDARD
TZOFFSETFROM:+0200
TZOFFSETTO:+0100
TZNAME:CET
DTSTART:20221030T010000
END:STANDARD
BEGIN:DAYLIGHT
TZOFFSETFROM:+0100
TZOFFSETTO:+0200
TZNAME:CEST
DTSTART:20230326T010000
END:DAYLIGHT
BEGIN:STANDARD
TZOFFSETFROM:+0200
TZOFFSETTO:+0100
TZNAME:CET
DTSTART:20231029T010000
END:STANDARD
BEGIN:DAYLIGHT
TZOFFSETFROM:+0100
TZOFFSETTO:+0200
TZNAME:CEST
DTSTART:20240331T010000
END:DAYLIGHT
BEGIN:STANDARD
TZOFFSETFROM:+0200
TZOFFSETTO:+0100
TZNAME:CET
DTSTART:20241027T010000
END:STANDARD
END:VTIMEZONE
BEGIN:VEVENT
DTSTART;TZID=Europe/Vienna:20230506T100000
DTEND;TZID=Europe/Vienna:20230506T140000
DTSTAMP:20260424T223432
CREATED:20230119T144020Z
LAST-MODIFIED:20230402T075815Z
UID:5795-1683367200-1683381600@www.muenichsthal.at
SUMMARY:1. Straßen-Einzel-Bergzeitfahren - Rennrad
DESCRIPTION:
URL:https://www.muenichsthal.at/event/bergzeitfahren-rennrad/
LOCATION:vor dem Ortszentrum
CATEGORIES:Alle
ATTACH;FMTTYPE=image/jpeg:https://www.muenichsthal.at/wp-content/uploads/2023/04/2023_ausschreibung_einzelzeitfahren_rc_dreilala.jpg
END:VEVENT
BEGIN:VEVENT
DTSTART;TZID=Europe/Vienna:20230506T180000
DTEND;TZID=Europe/Vienna:20230506T200000
DTSTAMP:20260424T223432
CREATED:20230119T144127Z
LAST-MODIFIED:20230119T144127Z
UID:5797-1683396000-1683403200@www.muenichsthal.at
SUMMARY:Florianifeier
DESCRIPTION:
URL:https://www.muenichsthal.at/event/florianifeier/
LOCATION:Pfarrkirche Münichsthal
CATEGORIES:Alle
END:VEVENT
BEGIN:VEVENT
DTSTART;TZID=Europe/Vienna:20230507T130000
DTEND;TZID=Europe/Vienna:20230507T130000
DTSTAMP:20260424T223432
CREATED:20230119T144242Z
LAST-MODIFIED:20230119T144242Z
UID:5799-1683464400-1683464400@www.muenichsthal.at
SUMMARY:Wings for Life Worldrun
DESCRIPTION:
URL:https://www.muenichsthal.at/event/wings-for-life-worldrun/
LOCATION:Feuerwehrhaus\, Hauptstraße 45a\, Münichsthal\, 2122
CATEGORIES:Alle
END:VEVENT
BEGIN:VEVENT
DTSTART;TZID=Europe/Vienna:20230514T084500
DTEND;TZID=Europe/Vienna:20230514T084500
DTSTAMP:20260424T223432
CREATED:20230119T144352Z
LAST-MODIFIED:20230510T090423Z
UID:5801-1684053900-1684053900@www.muenichsthal.at
SUMMARY:Patrozinium hl. Nepomuk
DESCRIPTION:
URL:https://www.muenichsthal.at/event/patrozinium-hl-nepomuk/
LOCATION:Pfarrkirche Münichsthal
CATEGORIES:Alle
ATTACH;FMTTYPE=image/jpeg:https://www.muenichsthal.at/wp-content/uploads/2023/01/2023_patrozinium.jpg
END:VEVENT
BEGIN:VEVENT
DTSTART;TZID=Europe/Vienna:20230521T160000
DTEND;TZID=Europe/Vienna:20230521T160000
DTSTAMP:20260424T223432
CREATED:20230119T144450Z
LAST-MODIFIED:20230510T090512Z
UID:5803-1684684800-1684684800@www.muenichsthal.at
SUMMARY:Frühlingskonzert
DESCRIPTION:Am Sonntag\, den 21.05.2023 findet um 16:00 Uhr das Frühlingskonzert des Musikvereins Münichsthal im Garten hinter der „Alten Schule“ in Münichsthal statt! \nIm 1. Teil gibt es verschiedene Konzertstücke zu hören\, und wir dürfen gemeinsam mit unseren Musikschüler:innen aus Münichsthal und Pfösing musizieren. \nDer 2. Teil wird ein gemütlicher Ausklang mit moderner Dämmerschoppen-Musik. \nFür ausreichend Beschattung und Verpflegung ist gesorgt! \nWir freuen uns auf Ihren/deinen Besuch!
URL:https://www.muenichsthal.at/event/fruehlingskonzert-2/
LOCATION:Ortszentrum\, Hauptstraße 56\, Münichsthal\, 2122\, Österreich
CATEGORIES:Alle
ATTACH;FMTTYPE=image/jpeg:https://www.muenichsthal.at/wp-content/uploads/2023/01/2023_mvm_konzert_mai.jpg
END:VEVENT
BEGIN:VEVENT
DTSTART;VALUE=DATE:20230528
DTEND;VALUE=DATE:20230529
DTSTAMP:20260424T223432
CREATED:20230119T144704Z
LAST-MODIFIED:20230119T144705Z
UID:5807-1685232000-1685232000@www.muenichsthal.at
SUMMARY:Erstkommunion
DESCRIPTION:
URL:https://www.muenichsthal.at/event/erstkommunion/
LOCATION:Pfarrkirche Münichsthal
CATEGORIES:Alle
END:VEVENT
END:VCALENDAR