BEGIN:VCALENDAR
VERSION:2.0
PRODID:-//muenichsthal.at - ECPv6.15.17.1//NONSGML v1.0//EN
CALSCALE:GREGORIAN
METHOD:PUBLISH
X-ORIGINAL-URL:https://www.muenichsthal.at
X-WR-CALDESC:Veranstaltungen für muenichsthal.at
REFRESH-INTERVAL;VALUE=DURATION:PT1H
X-Robots-Tag:noindex
X-PUBLISHED-TTL:PT1H
BEGIN:VTIMEZONE
TZID:Europe/Vienna
BEGIN:DAYLIGHT
TZOFFSETFROM:+0100
TZOFFSETTO:+0200
TZNAME:CEST
DTSTART:20220327T010000
END:DAYLIGHT
BEGIN:STANDARD
TZOFFSETFROM:+0200
TZOFFSETTO:+0100
TZNAME:CET
DTSTART:20221030T010000
END:STANDARD
BEGIN:DAYLIGHT
TZOFFSETFROM:+0100
TZOFFSETTO:+0200
TZNAME:CEST
DTSTART:20230326T010000
END:DAYLIGHT
BEGIN:STANDARD
TZOFFSETFROM:+0200
TZOFFSETTO:+0100
TZNAME:CET
DTSTART:20231029T010000
END:STANDARD
BEGIN:DAYLIGHT
TZOFFSETFROM:+0100
TZOFFSETTO:+0200
TZNAME:CEST
DTSTART:20240331T010000
END:DAYLIGHT
BEGIN:STANDARD
TZOFFSETFROM:+0200
TZOFFSETTO:+0100
TZNAME:CET
DTSTART:20241027T010000
END:STANDARD
END:VTIMEZONE
BEGIN:VEVENT
DTSTART;TZID=Europe/Vienna:20230902T100000
DTEND;TZID=Europe/Vienna:20230902T140000
DTSTAMP:20260424T154028
CREATED:20230119T145158Z
LAST-MODIFIED:20230119T145158Z
UID:5815-1693648800-1693663200@www.muenichsthal.at
SUMMARY:Rieden-Trophy
DESCRIPTION:
URL:https://www.muenichsthal.at/event/rieden-trophy/
LOCATION:Feuerwehrhaus\, Hauptstraße 45a\, Münichsthal\, 2122
CATEGORIES:Alle
END:VEVENT
BEGIN:VEVENT
DTSTART;TZID=Europe/Vienna:20230902T140000
DTEND;TZID=Europe/Vienna:20230902T170000
DTSTAMP:20260424T154028
CREATED:20230128T124443Z
LAST-MODIFIED:20230128T124443Z
UID:5833-1693663200-1693674000@www.muenichsthal.at
SUMMARY:Marschwertung Hochleithen
DESCRIPTION:
URL:https://www.muenichsthal.at/event/marschwertung-hochleithen/
CATEGORIES:Alle
END:VEVENT
BEGIN:VEVENT
DTSTART;TZID=Europe/Vienna:20230902T183000
DTEND;TZID=Europe/Vienna:20230902T183000
DTSTAMP:20260424T154028
CREATED:20230119T145305Z
LAST-MODIFIED:20230814T112540Z
UID:5817-1693679400-1693679400@www.muenichsthal.at
SUMMARY:Weinbeissn aum Brasnbere
DESCRIPTION:
URL:https://www.muenichsthal.at/event/weinbeissn-aum-brasnbere/
LOCATION:Feuerwehrhaus\, Hauptstraße 45a\, Münichsthal\, 2122
CATEGORIES:Alle
END:VEVENT
BEGIN:VEVENT
DTSTART;TZID=Europe/Vienna:20230903T084500
DTEND;TZID=Europe/Vienna:20230903T150000
DTSTAMP:20260424T154028
CREATED:20230119T145356Z
LAST-MODIFIED:20230814T092326Z
UID:5819-1693730700-1693753200@www.muenichsthal.at
SUMMARY:Feuerwehrkirtag
DESCRIPTION:
URL:https://www.muenichsthal.at/event/kirtag-2/
LOCATION:Feuerwehrhaus\, Hauptstraße 45a\, Münichsthal\, 2122
CATEGORIES:Alle
ATTACH;FMTTYPE=image/jpeg:https://www.muenichsthal.at/wp-content/uploads/2023/08/2023_ff_flyer_kirtag.jpg
END:VEVENT
BEGIN:VEVENT
DTSTART;TZID=Europe/Vienna:20230909T160000
DTEND;TZID=Europe/Vienna:20230909T160000
DTSTAMP:20260424T154028
CREATED:20230829T090229Z
LAST-MODIFIED:20230829T090229Z
UID:6235-1694275200-1694275200@www.muenichsthal.at
SUMMARY:TCM Oktoberfest
DESCRIPTION:
URL:https://www.muenichsthal.at/event/tcm-oktoberfest/
LOCATION:Tennisplatz Münichsthal
ATTACH;FMTTYPE=image/jpeg:https://www.muenichsthal.at/wp-content/uploads/2023/08/2023_tcm_oktoberfest.jpg
END:VEVENT
BEGIN:VEVENT
DTSTART;TZID=Europe/Vienna:20230930T170000
DTEND;TZID=Europe/Vienna:20230930T170000
DTSTAMP:20260424T154028
CREATED:20230920T104919Z
LAST-MODIFIED:20230920T104920Z
UID:6276-1696093200-1696093200@www.muenichsthal.at
SUMMARY:Sturm-Standl
DESCRIPTION:
URL:https://www.muenichsthal.at/event/sturm-standl/
LOCATION:Sportplatz Münichsthal
ATTACH;FMTTYPE=image/jpeg:https://www.muenichsthal.at/wp-content/uploads/2023/09/2023_sturmstandl.jpg
END:VEVENT
END:VCALENDAR